BEGIN:VCALENDAR
VERSION:2.0
PRODID:-//Your Site//Events//EN
CALSCALE:GREGORIAN
METHOD:PUBLISH
BEGIN:VEVENT
UID:69e9b20b2331f@www.hackensack.org
DTSTAMP:20260423T054547Z
DTSTART:20260424T100000
DTEND:20260424T110000
SUMMARY:Arbor Day Tree Planting Celebration
DESCRIPTION:Join us for an Arbor Day Tree Planting Celebration on April 24th at 10:00 AM at Rowland Avenue Park. This special event is dedicated to former DPW employee, Sam S. Minnella Jr.
LOCATION:Rowland Avenue Park, Rowland Ave, Hackensack, NJ 07601
END:VEVENT
END:VCALENDAR
