BEGIN:VCALENDAR
VERSION:2.0
PRODID:-//Your Site//Events//EN
CALSCALE:GREGORIAN
METHOD:PUBLISH
BEGIN:VEVENT
UID:69e9b0f66c024@www.hackensack.org
DTSTAMP:20260423T054110Z
DTSTART:20260604T140000
DTEND:20260604T190000
SUMMARY:Battle of the Badges &#8211; Blood Drive
DESCRIPTION:The City of Hackensack is partnering with the American Red Cross for the Battle of the Badges Blood Drive at the Civic Center. Join us on Thursday, June 4, 2026, from 2PM to 7PM. to help support patients in need and strengthen our community. Appointments are encouraged and can be scheduled at RedCrossBlood.org by entering [&hellip;]
LOCATION:City Hall, 65 Central Ave., Hackensack NJ 07601
END:VEVENT
END:VCALENDAR
