BEGIN:VCALENDAR
VERSION:2.0
PRODID:-//Your Site//Events//EN
CALSCALE:GREGORIAN
METHOD:PUBLISH
BEGIN:VEVENT
UID:69e9b3b61050f@www.hackensack.org
DTSTAMP:20260423T055254Z
DTSTART:20260502T090000
DTEND:20260502T130000
SUMMARY:Choosing Joy: A Movement to Improve Mental Health
DESCRIPTION:The Bergen County Alumnae Chapter of Delta Sigma Theta Sorority, Inc., in partnership with the City of Hackensack Health Department, invites residents to Choosing Joy: A Movement to Improve Mental Health on Friday, May 2 from 9AM to 1PM at the Hackensack Recreation Center. This free community event brings neighbors together for a half-day of connection, [&hellip;]
LOCATION:Recreation Center, 116 Holt St., Hackensack, NJ 07601
END:VEVENT
END:VCALENDAR
