BEGIN:VCALENDAR
VERSION:2.0
PRODID:-//Your Site//Events//EN
CALSCALE:GREGORIAN
METHOD:PUBLISH
BEGIN:VEVENT
UID:69e8193e212d2@www.hackensack.org
DTSTAMP:20260422T004134Z
DTSTART:20260421T173000
DTEND:20260421T200000
SUMMARY:City Council Meeting
LOCATION:City Hall, 65 Central Ave., Hackensack NJ 07601
END:VEVENT
END:VCALENDAR
