BEGIN:VCALENDAR
VERSION:2.0
PRODID:-//Your Site//Events//EN
CALSCALE:GREGORIAN
METHOD:PUBLISH
BEGIN:VEVENT
UID:69e57391f1c57@www.hackensack.org
DTSTAMP:20260420T003009Z
DTSTART:20260419T150000
DTEND:20260419T170000
SUMMARY:A Salute To Liberace
DESCRIPTION:David Maiocco’s Electrifying Tribute to Liberace at HACPAC Step into a world of glittering grandeur and musical brilliance as the sensational David Maiocco takes the stage at HACPAC! From dazzling costumes to jaw-dropping piano virtuosity, Maiocco transforms the stage into a vibrant celebration of Liberace’s iconic showmanship, blending humor, charm, and sheer spectacle in a [&hellip;]\n\nMore info: https://hacpac.org/events/liberace/
LOCATION:The Hackensack Meridian Health Theatre, 102 State St., Hackensack NJ 07601
URL:https://hacpac.org/events/liberace/
END:VEVENT
END:VCALENDAR
