BEGIN:VCALENDAR
VERSION:2.0
PRODID:-//Your Site//Events//EN
CALSCALE:GREGORIAN
METHOD:PUBLISH
BEGIN:VEVENT
UID:69ed18ac9636f@www.hackensack.org
DTSTAMP:20260425T194028Z
DTSTART:20260328T200000
DTEND:20260328T220000
SUMMARY:Bragging Rights
DESCRIPTION:From Creator Matt Algozzini, NYC’s hottest and long running sketch comedy competition show in history returns to invade New Jersey! Bragging Rights is a sketch comedy show where a group of actors and comedians that have been drafted into 2 separate teams go head to head for laughs as the audience and guest judges vote [&hellip;]\n\nMore info: https://hacpac.org/events/bragging-rights/
LOCATION:The Hackensack Meridian Health Theatre, 102 State St., Hackensack NJ 07601
URL:https://hacpac.org/events/bragging-rights/
END:VEVENT
END:VCALENDAR
