BEGIN:VCALENDAR
VERSION:2.0
PRODID:-//Your Site//Events//EN
CALSCALE:GREGORIAN
METHOD:PUBLISH
BEGIN:VEVENT
UID:69eb9cc872603@www.hackensack.org
DTSTAMP:20260424T163936Z
DTSTART:20260425T200000
DTEND:20260425T213000
SUMMARY:Corey Rodrigues &#8211; PAC the House
DESCRIPTION:Get ready to laugh! The PAC the House series returns on April 25th at 8:00 PM for a spectacular night of stand-up comedy. Headlining the evening is Corey Rodrigues, a powerhouse comedian who has taken the country by storm. A winner of The Funniest Comic in New England and the 2017 Big Sky Comedy Festival, [&hellip;]\n\nMore info: https://hacpac.org/events/corey-rodrigues-pac-the-house/
LOCATION:The Hackensack Meridian Health Theatre, 102 State St., Hackensack NJ 07601
URL:https://hacpac.org/events/corey-rodrigues-pac-the-house/
END:VEVENT
END:VCALENDAR
