BEGIN:VCALENDAR
VERSION:2.0
PRODID:-//Your Site//Events//EN
CALSCALE:GREGORIAN
METHOD:PUBLISH
BEGIN:VEVENT
UID:69ed0ea73b9b8@www.hackensack.org
DTSTAMP:20260425T185743Z
DTSTART:20260319T190000
DTEND:20260319T220000
SUMMARY:Zoning Board Meeting
LOCATION:City Hall, 65 Central Ave., Hackensack NJ 07601
END:VEVENT
END:VCALENDAR
