BEGIN:VCALENDAR
VERSION:2.0
PRODID:-//Your Site//Events//EN
CALSCALE:GREGORIAN
METHOD:PUBLISH
BEGIN:VEVENT
UID:69e7778051bc3@www.hackensack.org
DTSTAMP:20260421T131128Z
DTSTART:20260309T163000
DTEND:20260309T173000
SUMMARY:Stigma Free Committee
LOCATION:City Hall, 65 Central Ave., Hackensack NJ 07601
END:VEVENT
END:VCALENDAR
