BEGIN:VCALENDAR
VERSION:2.0
PRODID:-//Your Site//Events//EN
CALSCALE:GREGORIAN
METHOD:PUBLISH
BEGIN:VEVENT
UID:69ecf7b593062@www.hackensack.org
DTSTAMP:20260425T171949Z
DTSTART:20260311T190000
DTEND:20260311T220000
SUMMARY:Planning Board Meeting
LOCATION:City Hall, 65 Central Ave., Hackensack NJ 07601
END:VEVENT
END:VCALENDAR
