BEGIN:VCALENDAR
VERSION:2.0
PRODID:-//Your Site//Events//EN
CALSCALE:GREGORIAN
METHOD:PUBLISH
BEGIN:VEVENT
UID:69e7a108c36c7@www.hackensack.org
DTSTAMP:20260421T160840Z
DTSTART:20260306T113000
DTEND:20260306T143000
SUMMARY:Black History Month Luncheon
DESCRIPTION:📢 DATE CHANGE UPDATE 📢 Our Black History Month Luncheon has been rescheduled to Friday, March 6! Join friends and family for delicious food and a sense of community. 🗓 NEW DATE: March 6 · 11:30AM – 2:30PM 📍 Hackensack Recreation Center (116 Holt St., Hackensack, NJ) 🎟 Free to attend (ticket required) Seating is [&hellip;]
LOCATION:Recreation Center, 116 Holt St., Hackensack, NJ 07601
END:VEVENT
END:VCALENDAR
