BEGIN:VCALENDAR
VERSION:2.0
PRODID:-//Your Site//Events//EN
CALSCALE:GREGORIAN
METHOD:PUBLISH
BEGIN:VEVENT
UID:69ed00e46a778@www.hackensack.org
DTSTAMP:20260425T175900Z
DTSTART:20260225T190000
DTEND:20260225T210000
SUMMARY:Environmental Commission/Green Team
LOCATION:City Hall, 65 Central Ave., Hackensack NJ 07601
END:VEVENT
END:VCALENDAR
