BEGIN:VCALENDAR
VERSION:2.0
PRODID:-//Your Site//Events//EN
CALSCALE:GREGORIAN
METHOD:PUBLISH
BEGIN:VEVENT
UID:69ed2fab7a068@www.hackensack.org
DTSTAMP:20260425T211835Z
DTSTART:20260217T173000
DTEND:20260217T200000
SUMMARY:City Council Meeting
LOCATION:City Hall, 65 Central Ave., Hackensack NJ 07601
END:VEVENT
END:VCALENDAR
