BEGIN:VCALENDAR
VERSION:2.0
PRODID:-//Your Site//Events//EN
CALSCALE:GREGORIAN
METHOD:PUBLISH
BEGIN:VEVENT
UID:69e54d78c4197@www.hackensack.org
DTSTAMP:20260419T214736Z
DTSTART:20260210T193000
DTEND:20260210T200000
SUMMARY:Shade Tree Committee
LOCATION:City Hall, 65 Central Ave., Hackensack NJ 07601
END:VEVENT
END:VCALENDAR
