BEGIN:VCALENDAR
VERSION:2.0
PRODID:-//Your Site//Events//EN
CALSCALE:GREGORIAN
METHOD:PUBLISH
BEGIN:VEVENT
UID:69e54d6567209@www.hackensack.org
DTSTAMP:20260419T214717Z
DTSTART:20260209T163000
DTEND:20260209T173000
SUMMARY:Hackensack Municipal Alliance
DESCRIPTION:For more information about the Alliance: Municipal Alliance
LOCATION:City Hall, 65 Central Ave., Hackensack NJ 07601
END:VEVENT
END:VCALENDAR
