BEGIN:VCALENDAR
VERSION:2.0
PRODID:-//Your Site//Events//EN
CALSCALE:GREGORIAN
METHOD:PUBLISH
BEGIN:VEVENT
UID:69e56c9d37bb3@www.hackensack.org
DTSTAMP:20260420T000029Z
DTSTART:20260826T190000
DTEND:20260826T210000
SUMMARY:Environmental Commission/Green Team
LOCATION:City Hall, 65 Central Ave., Hackensack NJ 07601
END:VEVENT
END:VCALENDAR
