BEGIN:VCALENDAR
VERSION:2.0
PRODID:-//Your Site//Events//EN
CALSCALE:GREGORIAN
METHOD:PUBLISH
BEGIN:VEVENT
UID:69ed1991aad4d@www.hackensack.org
DTSTAMP:20260425T194417Z
DTSTART:20261209T190000
DTEND:20261209T210000
SUMMARY:Environmental Commission/Green Team
LOCATION:City Hall, 65 Central Ave., Hackensack NJ 07601
END:VEVENT
END:VCALENDAR
