BEGIN:VCALENDAR
VERSION:2.0
PRODID:-//Your Site//Events//EN
CALSCALE:GREGORIAN
METHOD:PUBLISH
BEGIN:VEVENT
UID:69ecf71f054c9@www.hackensack.org
DTSTAMP:20260425T171719Z
DTSTART:20261028T190000
DTEND:20261028T210000
SUMMARY:Environmental Commission/Green Team
LOCATION:City Hall, 65 Central Ave., Hackensack NJ 07601
END:VEVENT
END:VCALENDAR
