BEGIN:VCALENDAR
VERSION:2.0
PRODID:-//Your Site//Events//EN
CALSCALE:GREGORIAN
METHOD:PUBLISH
BEGIN:VEVENT
UID:69e5579ec4529@www.hackensack.org
DTSTAMP:20260419T223054Z
DTSTART:20260422T190000
DTEND:20260422T210000
SUMMARY:Environmental Commission/Green Team
LOCATION:City Hall, 65 Central Ave., Hackensack NJ 07601
END:VEVENT
END:VCALENDAR
