BEGIN:VCALENDAR
VERSION:2.0
PRODID:-//Your Site//Events//EN
CALSCALE:GREGORIAN
METHOD:PUBLISH
BEGIN:VEVENT
UID:69e56eebc91b2@www.hackensack.org
DTSTAMP:20260420T001019Z
DTSTART:20261208T193000
DTEND:20261208T200000
SUMMARY:Shade Tree Committee
LOCATION:City Hall, 65 Central Ave., Hackensack NJ 07601
END:VEVENT
END:VCALENDAR
