BEGIN:VCALENDAR
VERSION:2.0
PRODID:-//Your Site//Events//EN
CALSCALE:GREGORIAN
METHOD:PUBLISH
BEGIN:VEVENT
UID:69e569deabf49@www.hackensack.org
DTSTAMP:20260419T234846Z
DTSTART:20261013T193000
DTEND:20261013T200000
SUMMARY:Shade Tree Committee
LOCATION:City Hall, 65 Central Ave., Hackensack NJ 07601
END:VEVENT
END:VCALENDAR
