BEGIN:VCALENDAR
VERSION:2.0
PRODID:-//Your Site//Events//EN
CALSCALE:GREGORIAN
METHOD:PUBLISH
BEGIN:VEVENT
UID:69e54d1c95027@www.hackensack.org
DTSTAMP:20260419T214604Z
DTSTART:20260512T193000
DTEND:20260512T200000
SUMMARY:Shade Tree Committee
LOCATION:City Hall, 65 Central Ave., Hackensack NJ 07601
END:VEVENT
END:VCALENDAR
