BEGIN:VCALENDAR
VERSION:2.0
PRODID:-//Your Site//Events//EN
CALSCALE:GREGORIAN
METHOD:PUBLISH
BEGIN:VEVENT
UID:69e541d2a4c95@www.hackensack.org
DTSTAMP:20260419T205754Z
DTSTART:20261202T180000
DTEND:20261202T200000
SUMMARY:Recreation Board Meeting
LOCATION:Recreation Center, 116 Holt St., Hackensack, NJ 07601
END:VEVENT
END:VCALENDAR
