BEGIN:VCALENDAR
VERSION:2.0
PRODID:-//Your Site//Events//EN
CALSCALE:GREGORIAN
METHOD:PUBLISH
BEGIN:VEVENT
UID:69e541bee39c8@www.hackensack.org
DTSTAMP:20260419T205734Z
DTSTART:20261007T180000
DTEND:20261007T200000
SUMMARY:Recreation Board Meeting
LOCATION:Recreation Center, 116 Holt St., Hackensack, NJ 07601
END:VEVENT
END:VCALENDAR
