BEGIN:VCALENDAR
VERSION:2.0
PRODID:-//Your Site//Events//EN
CALSCALE:GREGORIAN
METHOD:PUBLISH
BEGIN:VEVENT
UID:69ed0d440861a@www.hackensack.org
DTSTAMP:20260425T185148Z
DTSTART:20260902T180000
DTEND:20260902T200000
SUMMARY:Recreation Board Meeting
LOCATION:City Hall, 65 Central Ave., Hackensack NJ 07601
END:VEVENT
END:VCALENDAR
