BEGIN:VCALENDAR
VERSION:2.0
PRODID:-//Your Site//Events//EN
CALSCALE:GREGORIAN
METHOD:PUBLISH
BEGIN:VEVENT
UID:69ed89aaa71b6@www.hackensack.org
DTSTAMP:20260426T034234Z
DTSTART:20260603T180000
DTEND:20260603T200000
SUMMARY:Recreation Board Meeting
LOCATION:City Hall, 65 Central Ave., Hackensack NJ 07601
END:VEVENT
END:VCALENDAR
