BEGIN:VCALENDAR
VERSION:2.0
PRODID:-//Your Site//Events//EN
CALSCALE:GREGORIAN
METHOD:PUBLISH
BEGIN:VEVENT
UID:69ed0f001fb90@www.hackensack.org
DTSTAMP:20260425T185912Z
DTSTART:20261020T173000
DTEND:20261020T200000
SUMMARY:City Council Meeting
LOCATION:City Hall, 65 Central Ave., Hackensack NJ 07601
END:VEVENT
END:VCALENDAR
