BEGIN:VCALENDAR
VERSION:2.0
PRODID:-//Your Site//Events//EN
CALSCALE:GREGORIAN
METHOD:PUBLISH
BEGIN:VEVENT
UID:69e77c591fba9@www.hackensack.org
DTSTAMP:20260421T133209Z
DTSTART:20260810T173000
DTEND:20260810T200000
SUMMARY:City Council Meeting
LOCATION:City Hall, 65 Central Ave., Hackensack NJ 07601
END:VEVENT
END:VCALENDAR
