BEGIN:VCALENDAR
VERSION:2.0
PRODID:-//Your Site//Events//EN
CALSCALE:GREGORIAN
METHOD:PUBLISH
BEGIN:VEVENT
UID:69ed18d0a6432@www.hackensack.org
DTSTAMP:20260425T194104Z
DTSTART:20260616T173000
DTEND:20260616T200000
SUMMARY:City Council Meeting
LOCATION:City Hall, 65 Central Ave., Hackensack NJ 07601
END:VEVENT
END:VCALENDAR
