BEGIN:VCALENDAR
VERSION:2.0
PRODID:-//Your Site//Events//EN
CALSCALE:GREGORIAN
METHOD:PUBLISH
BEGIN:VEVENT
UID:69e53ffe12abf@www.hackensack.org
DTSTAMP:20260419T205006Z
DTSTART:20261119T190000
DTEND:20261119T203000
SUMMARY:Condo, Co-op Advisory Board Meeting
LOCATION:City Hall, 65 Central Ave., Hackensack NJ 07601
END:VEVENT
END:VCALENDAR
