BEGIN:VCALENDAR
VERSION:2.0
PRODID:-//Your Site//Events//EN
CALSCALE:GREGORIAN
METHOD:PUBLISH
BEGIN:VEVENT
UID:69e56c893d725@www.hackensack.org
DTSTAMP:20260420T000009Z
DTSTART:20261022T190000
DTEND:20261022T203000
SUMMARY:Condo, Co-op Advisory Board Meeting
LOCATION:City Hall, 65 Central Ave., Hackensack NJ 07601
END:VEVENT
END:VCALENDAR
